BEGIN:VCALENDAR
VERSION:2.0
PRODID:-//Creative Safety Initiatives - ECPv4.6.1//NONSGML v1.0//EN
CALSCALE:GREGORIAN
METHOD:PUBLISH
X-WR-CALNAME:Creative Safety Initiatives
X-ORIGINAL-URL:http://csisafety.com.au
X-WR-CALDESC:Events for Creative Safety Initiatives
BEGIN:VEVENT
DTSTART;TZID=UTC+10:20180130T083000
DTEND;TZID=UTC+10:20180130T163000
DTSTAMP:20180224T115907
CREATED:20180116T060049Z
LAST-MODIFIED:20180116T060049Z
UID:1710-1517301000-1517329800@csisafety.com.au
SUMMARY:Traffic Controller and Implement Traffic Management Plans - 30 & 31.1.18 (Two Day Course)
DESCRIPTION:Traffic Controller and Implement Traffic Management Plan  \nRIIWHS205D Control Traffic with a Stop Slow Bat \nRIIWHS302D Implement Traffic Management Plan \nRIICOM201D Communicate in the Workplace \nRIIWHS201A Work Safely and follow WHS Policies and Procedures \nThis combined course is for people who wish to obtain Traffic Controller and Implement Traffic Management Plan Licences. Participants will learn to manage/direct traffic at roadwork sites and set up signs according to Traffic Control Plans. \nThis course is delivered through MAP Training RTO 40464. \nPre-requisites: Participants must have the appropriate Personal Protective Equipment (PPE) to wear for their practical training and on-site assessment including a high visibility long sleeved shirt\, long work pants\, steel cap or composite toe work boots and a hard hat. \nStudents must also hold a current Construction Induction White Card or equivalent prior to undertaking their on-site assessment. \nCourse Outcome: upon successful completion participants will receive a Statement of Attainment in the units listed above and a photocard issued by RMS (Valid for 3 years). \nDelivery Method: Face to face                    Duration:               21-24 hours \n
URL:http://csisafety.com.au/course/traffic-controller-and-implement-traffic-management-plans-30-31-1-18-two-day-course/
LOCATION:3 Rosevear Place\, Dickson\, ACT\, 2602\, Australia
GEO:-35.2494342;149.1437802
X-APPLE-STRUCTURED-LOCATION;VALUE=URI;X-ADDRESS=3 Rosevear Place Dickson ACT 2602 Australia;X-APPLE-RADIUS=500;X-TITLE=3 Rosevear Place:geo:149.1437802,-35.2494342
END:VEVENT
BEGIN:VEVENT
DTSTART;TZID=UTC+10:20180131T080000
DTEND;TZID=UTC+10:20180131T160000
DTSTAMP:20180224T115907
CREATED:20180116T055748Z
LAST-MODIFIED:20180116T055748Z
UID:1708-1517385600-1517414400@csisafety.com.au
SUMMARY:CPCCWHS1001 Prepare to Work Safely in the Construction Industry - 31.1.18
DESCRIPTION:CPCCWHS1001 Prepare to Work Safely in the Construction Industry  \nThis unit of competency specifies the mandatory work health and safety training required prior to undertaking construction work. The unit requires the person to demonstrate personal awareness and knowledge of health and safety legislative requirements in order to work safely and prevent injury or harm to self and others. It covers identifying and orally reporting common construction hazards\, understanding basic risk control measures\, and identifying procedures for responding to potential incidents and emergencies. It also covers correctly selecting and fitting common personal protective equipment (PPE) used for construction work.\nTopics covered \n\nLegislative requirements\nRisk management\nIndustry hazards\nDuty of care\nProcedures and relevant authorities\n\nDelivery method: Face to face \nDuration: 6-8 hours \n The national WHS induction for construction is a requirement under Part 6.5 of the Work Health and \nSafety Regulation 2017 \n  \n
URL:http://csisafety.com.au/course/cpccwhs1001-prepare-to-work-safely-in-the-construction-industry-31-1-18/
LOCATION:3 Rosevear Place\, Dickson\, ACT\, 2602\, Australia
GEO:-35.2494342;149.1437802
X-APPLE-STRUCTURED-LOCATION;VALUE=URI;X-ADDRESS=3 Rosevear Place Dickson ACT 2602 Australia;X-APPLE-RADIUS=500;X-TITLE=3 Rosevear Place:geo:149.1437802,-35.2494342
END:VEVENT
BEGIN:VEVENT
DTSTART;TZID=UTC+10:20180201T074500
DTEND;TZID=UTC+10:20180201T120000
DTSTAMP:20180224T115907
CREATED:20180130T020709Z
LAST-MODIFIED:20180130T020709Z
UID:1714-1517471100-1517486400@csisafety.com.au
SUMMARY:10675NAT Course in Asbestos Awareness - 1.2.18
DESCRIPTION:10675NAT Course in Asbestos Awareness is the mandated course introduced by the ACT Government (Section 445 of the Work Health and Safety Regulation) and is required for all workers in the ACT building and construction industry. \nParticipants will gain the necessary knowledge and skills to identify when and where asbestos and asbestos containing material (ACM) may be present\, the precautions that need to be taken if it is present and reporting procedures. \nTopics covered \n\nReporting procedures\nIdentify different types of asbestos\nHazards\nLegislation\nHistory of asbestos\n\nDelivery method: Face to face \nDuration: 4 hours \nThis course may help you meet your lawful obligations to Part 8.5\, Division 2\, Clause 445 of the Work Health and Safety Regulation 2011 \n
URL:http://csisafety.com.au/course/10675nat-course-in-asbestos-awareness-1-2-18/
LOCATION:3 Rosevear Place\, Dickson\, ACT\, 2602\, Australia
GEO:-35.2494342;149.1437802
X-APPLE-STRUCTURED-LOCATION;VALUE=URI;X-ADDRESS=3 Rosevear Place Dickson ACT 2602 Australia;X-APPLE-RADIUS=500;X-TITLE=3 Rosevear Place:geo:149.1437802,-35.2494342
END:VEVENT
BEGIN:VEVENT
DTSTART;TZID=UTC+10:20180206T074500
DTEND;TZID=UTC+10:20180206T120000
DTSTAMP:20180224T115907
CREATED:20180130T020833Z
LAST-MODIFIED:20180130T020833Z
UID:1717-1517903100-1517918400@csisafety.com.au
SUMMARY:10675NAT Course in Asbestos Awareness - 6.2.18
DESCRIPTION:10675NAT Course in Asbestos Awareness is the mandated course introduced by the ACT Government (Section 445 of the Work Health and Safety Regulation) and is required for all workers in the ACT building and construction industry. \nParticipants will gain the necessary knowledge and skills to identify when and where asbestos and asbestos containing material (ACM) may be present\, the precautions that need to be taken if it is present and reporting procedures. \nTopics covered \n\nReporting procedures\nIdentify different types of asbestos\nHazards\nLegislation\nHistory of asbestos\n\nDelivery method: Face to face \nDuration: 4 hours \nThis course may help you meet your lawful obligations to Part 8.5\, Division 2\, Clause 445 of the Work Health and Safety Regulation 2011 \n  \n
URL:http://csisafety.com.au/course/10675nat-course-in-asbestos-awareness-6-2-18/
LOCATION:3 Rosevear Place\, Dickson\, ACT\, 2602\, Australia
GEO:-35.2494342;149.1437802
X-APPLE-STRUCTURED-LOCATION;VALUE=URI;X-ADDRESS=3 Rosevear Place Dickson ACT 2602 Australia;X-APPLE-RADIUS=500;X-TITLE=3 Rosevear Place:geo:149.1437802,-35.2494342
END:VEVENT
BEGIN:VEVENT
DTSTART;TZID=UTC+10:20180206T083000
DTEND;TZID=UTC+10:20180206T163000
DTSTAMP:20180224T115907
CREATED:20180130T021123Z
LAST-MODIFIED:20180130T021123Z
UID:1719-1517905800-1517934600@csisafety.com.au
SUMMARY:Traffic Controller and Implement Traffic Management Plan - 6.2.18 - Day One
DESCRIPTION:Traffic Controller and Implement Traffic Management Plan \nRIIWHS205D Control Traffic with a Stop Slow Bat \nRIIWHS302D Implement Traffic Management Plan \nRIICOM201D Communicate in the Workplace \nRIIWHS201A Work Safely and follow WHS Policies and Procedures \nThis combined course is for people who wish to obtain Traffic Controller and Implement Traffic Management Plan Licences. Participants will learn to manage/direct traffic at roadwork sites and set up signs according to Traffic Control Plans. \nThis course is delivered through MAP Training RTO 40464. \nPre-requisites: Participants must have the appropriate Personal Protective Equipment (PPE) to wear for their practical training and on-site assessment including a high visibility long sleeved shirt\, long work pants\, steel cap or composite toe work boots and a hard hat. \nStudents must also hold a current Construction Induction White Card or equivalent prior to undertaking their on-site assessment. \nCourse Outcome: upon successful completion participants will receive a Statement of Attainment in the units listed above and a photocard issued by RMS (Valid for 3 years). \nDelivery Method: Face to face \nDuration: 21-24 hours \n
URL:http://csisafety.com.au/course/traffic-controller-and-implement-traffic-management-plan-6-2-18-day-one/
LOCATION:3 Rosevear Place\, Dickson\, ACT\, 2602\, Australia
GEO:-35.2494342;149.1437802
X-APPLE-STRUCTURED-LOCATION;VALUE=URI;X-ADDRESS=3 Rosevear Place Dickson ACT 2602 Australia;X-APPLE-RADIUS=500;X-TITLE=3 Rosevear Place:geo:149.1437802,-35.2494342
END:VEVENT
BEGIN:VEVENT
DTSTART;TZID=UTC+10:20180207T073000
DTEND;TZID=UTC+10:20180207T093000
DTSTAMP:20180224T115907
CREATED:20180130T021400Z
LAST-MODIFIED:20180130T021400Z
UID:1723-1517988600-1517995800@csisafety.com.au
SUMMARY:Impairment Awareness Training - 7.2.18
DESCRIPTION:This training course provides participants with the knowledge and awareness relating to impairment in the workplace. Participants will be provided with an overview of the Work Health and Safety Act 2011 and duties of care in the workplace. \nTopics covered \n\nLegislation\nDuties of care\nMental health\nFatigue\nAlcohol\nDrug use\nAddiction\, legal and illegal\nInjury and illness\nChemicals and heat\nHumidity\, cold and noise\n\nDelivery method: Face to face \nDuration: 2 hours \nThis course may help you meet your lawful obligations to the Work Health and Safety Act 2011 and the FWBC Building Code \n
URL:http://csisafety.com.au/course/impairment-awareness-training-7-2-18/
LOCATION:3 Rosevear Place\, Dickson\, ACT\, 2602\, Australia
GEO:-35.2494342;149.1437802
X-APPLE-STRUCTURED-LOCATION;VALUE=URI;X-ADDRESS=3 Rosevear Place Dickson ACT 2602 Australia;X-APPLE-RADIUS=500;X-TITLE=3 Rosevear Place:geo:149.1437802,-35.2494342
END:VEVENT
BEGIN:VEVENT
DTSTART;TZID=UTC+10:20180207T083000
DTEND;TZID=UTC+10:20180207T163000
DTSTAMP:20180224T115907
CREATED:20180130T021235Z
LAST-MODIFIED:20180130T021235Z
UID:1721-1517992200-1518021000@csisafety.com.au
SUMMARY:Traffic Controller and Implement Traffic Management Plan - 7.2.18 - Day Two
DESCRIPTION:Traffic Controller and Implement Traffic Management Plan \nRIIWHS205D Control Traffic with a Stop Slow Bat \nRIIWHS302D Implement Traffic Management Plan \nRIICOM201D Communicate in the Workplace \nRIIWHS201A Work Safely and follow WHS Policies and Procedures \nThis combined course is for people who wish to obtain Traffic Controller and Implement Traffic Management Plan Licences. Participants will learn to manage/direct traffic at roadwork sites and set up signs according to Traffic Control Plans. \nThis course is delivered through MAP Training RTO 40464. \nPre-requisites: Participants must have the appropriate Personal Protective Equipment (PPE) to wear for their practical training and on-site assessment including a high visibility long sleeved shirt\, long work pants\, steel cap or composite toe work boots and a hard hat. \nStudents must also hold a current Construction Induction White Card or equivalent prior to undertaking their on-site assessment. \nCourse Outcome: upon successful completion participants will receive a Statement of Attainment in the units listed above and a photocard issued by RMS (Valid for 3 years). \nDelivery Method: Face to face \nDuration: 21-24 hours \n
URL:http://csisafety.com.au/course/traffic-controller-and-implement-traffic-management-plan-7-2-18-day-two/
LOCATION:3 Rosevear Place\, Dickson\, ACT\, 2602\, Australia
GEO:-35.2494342;149.1437802
X-APPLE-STRUCTURED-LOCATION;VALUE=URI;X-ADDRESS=3 Rosevear Place Dickson ACT 2602 Australia;X-APPLE-RADIUS=500;X-TITLE=3 Rosevear Place:geo:149.1437802,-35.2494342
END:VEVENT
BEGIN:VEVENT
DTSTART;TZID=UTC+10:20180208T074500
DTEND;TZID=UTC+10:20180208T120000
DTSTAMP:20180224T115907
CREATED:20180130T021523Z
LAST-MODIFIED:20180130T021523Z
UID:1725-1518075900-1518091200@csisafety.com.au
SUMMARY:10675NAT Course in Asbestos Awareness - 8.2.18
DESCRIPTION:10675NAT Course in Asbestos Awareness is the mandated course introduced by the ACT Government (Section 445 of the Work Health and Safety Regulation) and is required for all workers in the ACT building and construction industry. \nParticipants will gain the necessary knowledge and skills to identify when and where asbestos and asbestos containing material (ACM) may be present\, the precautions that need to be taken if it is present and reporting procedures. \nTopics covered \n\nReporting procedures\nIdentify different types of asbestos\nHazards\nLegislation\nHistory of asbestos\n\nDelivery method: Face to face \nDuration: 4 hours \nThis course may help you meet your lawful obligations to Part 8.5\, Division 2\, Clause 445 of the Work Health and Safety Regulation 2011 \n
URL:http://csisafety.com.au/course/10675nat-course-in-asbestos-awareness-8-2-18/
LOCATION:3 Rosevear Place\, Dickson\, ACT\, 2602\, Australia
GEO:-35.2494342;149.1437802
X-APPLE-STRUCTURED-LOCATION;VALUE=URI;X-ADDRESS=3 Rosevear Place Dickson ACT 2602 Australia;X-APPLE-RADIUS=500;X-TITLE=3 Rosevear Place:geo:149.1437802,-35.2494342
END:VEVENT
BEGIN:VEVENT
DTSTART;TZID=UTC+10:20180209T140000
DTEND;TZID=UTC+10:20180209T160000
DTSTAMP:20180224T115907
CREATED:20180130T021706Z
LAST-MODIFIED:20180130T021706Z
UID:1727-1518184800-1518192000@csisafety.com.au
SUMMARY:Impairment Awareness - 9.2.18
DESCRIPTION:This training course provides participants with the knowledge and awareness relating to impairment in the workplace. Participants will be provided with an overview of the Work Health and Safety Act 2011 and duties of care in the workplace. \nTopics covered \n\nLegislation\nDuties of care\nMental health\nFatigue\nAlcohol\nDrug use\nAddiction\, legal and illegal\nInjury and illness\nChemicals and heat\nHumidity\, cold and noise\n\nDelivery method: Face to face \nDuration: 2 hours \nThis course may help you meet your lawful obligations to the Work Health and Safety Act 2011 and the FWBC Building Code \n
URL:http://csisafety.com.au/course/impairment-awareness-9-2-18/
LOCATION:3 Rosevear Place\, Dickson\, ACT\, 2602\, Australia
GEO:-35.2494342;149.1437802
X-APPLE-STRUCTURED-LOCATION;VALUE=URI;X-ADDRESS=3 Rosevear Place Dickson ACT 2602 Australia;X-APPLE-RADIUS=500;X-TITLE=3 Rosevear Place:geo:149.1437802,-35.2494342
END:VEVENT
BEGIN:VEVENT
DTSTART;TZID=UTC+10:20180213T074500
DTEND;TZID=UTC+10:20180213T120000
DTSTAMP:20180224T115907
CREATED:20180130T021834Z
LAST-MODIFIED:20180130T021834Z
UID:1729-1518507900-1518523200@csisafety.com.au
SUMMARY:10675NAT Course in Asbestos Awareness - 13.2.18
DESCRIPTION:10675NAT Course in Asbestos Awareness is the mandated course introduced by the ACT Government (Section 445 of the Work Health and Safety Regulation) and is required for all workers in the ACT building and construction industry. \nParticipants will gain the necessary knowledge and skills to identify when and where asbestos and asbestos containing material (ACM) may be present\, the precautions that need to be taken if it is present and reporting procedures. \nTopics covered \n\nReporting procedures\nIdentify different types of asbestos\nHazards\nLegislation\nHistory of asbestos\n\nDelivery method: Face to face \nDuration: 4 hours \nThis course may help you meet your lawful obligations to Part 8.5\, Division 2\, Clause 445 of the Work Health and Safety Regulation 2011 \n
URL:http://csisafety.com.au/course/10675nat-course-in-asbestos-awareness-13-2-18/
LOCATION:3 Rosevear Place\, Dickson\, ACT\, 2602\, Australia
GEO:-35.2494342;149.1437802
X-APPLE-STRUCTURED-LOCATION;VALUE=URI;X-ADDRESS=3 Rosevear Place Dickson ACT 2602 Australia;X-APPLE-RADIUS=500;X-TITLE=3 Rosevear Place:geo:149.1437802,-35.2494342
END:VEVENT
BEGIN:VEVENT
DTSTART;TZID=UTC+10:20180214T080000
DTEND;TZID=UTC+10:20180214T120000
DTSTAMP:20180224T115907
CREATED:20180130T022011Z
LAST-MODIFIED:20180130T022011Z
UID:1731-1518595200-1518609600@csisafety.com.au
SUMMARY:WH&S Managers and Supervisors - 14.2.18
DESCRIPTION:This training course provides the participants with the skills and knowledge to identify hazards within the building and construction industry and enable them to participate proactively in an incident investigation. Participants learn how to identify hazards using the hierarchy of controls and how to manage risks. \nTopics covered \n\nControl of hazards\nStatistics\nLegislation\nRoles and responsibilities\nDuty of care\nReporting\nHigh risk work\n\nDelivery method: Face to face \nDuration: 4 hours \nSection 19 of the Work Health & Safety Act 2011 states “a PCBU must ensure the provision of any information\, training\, instruction or supervision that is necessary to protect all persons from risks to their health and safety arising from work carried out as part of the conduct of the business or undertaking” \n
URL:http://csisafety.com.au/course/whs-managers-and-supervisors-14-2-18/
LOCATION:3 Rosevear Place\, Dickson\, ACT\, 2602\, Australia
GEO:-35.2494342;149.1437802
X-APPLE-STRUCTURED-LOCATION;VALUE=URI;X-ADDRESS=3 Rosevear Place Dickson ACT 2602 Australia;X-APPLE-RADIUS=500;X-TITLE=3 Rosevear Place:geo:149.1437802,-35.2494342
END:VEVENT
BEGIN:VEVENT
DTSTART;TZID=UTC+10:20180214T130000
DTEND;TZID=UTC+10:20180214T150000
DTSTAMP:20180224T115907
CREATED:20180130T022124Z
LAST-MODIFIED:20180130T022124Z
UID:1733-1518613200-1518620400@csisafety.com.au
SUMMARY:Impairment Awareness Training - 14.2.18
DESCRIPTION:This training course provides participants with the knowledge and awareness relating to impairment in the workplace. Participants will be provided with an overview of the Work Health and Safety Act 2011 and duties of care in the workplace. \nTopics covered \n\nLegislation\nDuties of care\nMental health\nFatigue\nAlcohol\nDrug use\nAddiction\, legal and illegal\nInjury and illness\nChemicals and heat\nHumidity\, cold and noise\n\nDelivery method: Face to face \nDuration: 2 hours \nThis course may help you meet your lawful obligations to the Work Health and Safety Act 2011 and the FWBC Building Code \n
URL:http://csisafety.com.au/course/impairment-awareness-training-14-2-18/
LOCATION:3 Rosevear Place\, Dickson\, ACT\, 2602\, Australia
GEO:-35.2494342;149.1437802
X-APPLE-STRUCTURED-LOCATION;VALUE=URI;X-ADDRESS=3 Rosevear Place Dickson ACT 2602 Australia;X-APPLE-RADIUS=500;X-TITLE=3 Rosevear Place:geo:149.1437802,-35.2494342
END:VEVENT
BEGIN:VEVENT
DTSTART;TZID=UTC+10:20180215T074500
DTEND;TZID=UTC+10:20180215T120000
DTSTAMP:20180224T115907
CREATED:20180130T022257Z
LAST-MODIFIED:20180130T022257Z
UID:1735-1518680700-1518696000@csisafety.com.au
SUMMARY:10675NAT Course in Asbestos Awareness - 15.2.18
DESCRIPTION:10675NAT Course in Asbestos Awareness is the mandated course introduced by the ACT Government (Section 445 of the Work Health and Safety Regulation) and is required for all workers in the ACT building and construction industry. \nParticipants will gain the necessary knowledge and skills to identify when and where asbestos and asbestos containing material (ACM) may be present\, the precautions that need to be taken if it is present and reporting procedures. \nTopics covered \n\nReporting procedures\nIdentify different types of asbestos\nHazards\nLegislation\nHistory of asbestos\n\nDelivery method: Face to face \nDuration: 4 hours \nThis course may help you meet your lawful obligations to Part 8.5\, Division 2\, Clause 445 of the Work Health and Safety Regulation 2011 \n
URL:http://csisafety.com.au/course/10675nat-course-in-asbestos-awareness-15-2-18/
LOCATION:3 Rosevear Place\, Dickson\, ACT\, 2602\, Australia
GEO:-35.2494342;149.1437802
X-APPLE-STRUCTURED-LOCATION;VALUE=URI;X-ADDRESS=3 Rosevear Place Dickson ACT 2602 Australia;X-APPLE-RADIUS=500;X-TITLE=3 Rosevear Place:geo:149.1437802,-35.2494342
END:VEVENT
BEGIN:VEVENT
DTSTART;TZID=UTC+10:20180220T074500
DTEND;TZID=UTC+10:20180220T120000
DTSTAMP:20180224T115907
CREATED:20180130T022622Z
LAST-MODIFIED:20180130T022622Z
UID:1739-1519112700-1519128000@csisafety.com.au
SUMMARY:10675NAT Course in Asbestos Awareness - 20.2.18
DESCRIPTION:10675NAT Course in Asbestos Awareness is the mandated course introduced by the ACT Government (Section 445 of the Work Health and Safety Regulation) and is required for all workers in the ACT building and construction industry. \nParticipants will gain the necessary knowledge and skills to identify when and where asbestos and asbestos containing material (ACM) may be present\, the precautions that need to be taken if it is present and reporting procedures. \nTopics covered \n\nReporting procedures\nIdentify different types of asbestos\nHazards\nLegislation\nHistory of asbestos\n\nDelivery method: Face to face \nDuration: 4 hours \nThis course may help you meet your lawful obligations to Part 8.5\, Division 2\, Clause 445 of the Work Health and Safety Regulation 2011 \n
URL:http://csisafety.com.au/course/10675nat-course-in-asbestos-awareness-20-2-18/
LOCATION:3 Rosevear Place\, Dickson\, ACT\, 2602\, Australia
GEO:-35.2494342;149.1437802
X-APPLE-STRUCTURED-LOCATION;VALUE=URI;X-ADDRESS=3 Rosevear Place Dickson ACT 2602 Australia;X-APPLE-RADIUS=500;X-TITLE=3 Rosevear Place:geo:149.1437802,-35.2494342
END:VEVENT
BEGIN:VEVENT
DTSTART;TZID=UTC+10:20180220T090000
DTEND;TZID=UTC+10:20180220T170000
DTSTAMP:20180224T115907
CREATED:20180130T022452Z
LAST-MODIFIED:20180130T022452Z
UID:1737-1519117200-1519146000@csisafety.com.au
SUMMARY:Health and Safety Representative Training - 20.2.18\, 21.2.18\, 22.2.18\, 27.2.18\, 28.2.18
DESCRIPTION:This course provides the participants with the skills and knowledge to grasp the concept of Work Health and Safety and the broader legislative environment requirements with enabling them to successfully fulfil the HSR role within their workplace. \nTopics covered \n\nInterpret WHS legislative framework and its relationship to the HSR\nIdentify key parties\, legislative publications and duties\nEstablish representation in the workplace\nParticipate in consolation and problem resolution\nRepresent members in the WHS risk management process undertaken by the PCBU\nIssue a PIN and direct the cessation of work\n\nDelivery method: face to face \nFull Course Duration: 5 days \nRefresher Course Duration: 1 day \n This course may help you meet your lawful obligations to section 72 of the Work Health and Safety Act 2011. \n
URL:http://csisafety.com.au/course/health-and-safety-representative-training-20-2-18-21-2-18-22-2-18-27-2-18-28-2-18/
LOCATION:3 Rosevear Place\, Dickson\, ACT\, 2602\, Australia
GEO:-35.2494342;149.1437802
X-APPLE-STRUCTURED-LOCATION;VALUE=URI;X-ADDRESS=3 Rosevear Place Dickson ACT 2602 Australia;X-APPLE-RADIUS=500;X-TITLE=3 Rosevear Place:geo:149.1437802,-35.2494342
END:VEVENT
BEGIN:VEVENT
DTSTART;TZID=UTC+10:20180221T080000
DTEND;TZID=UTC+10:20180221T160000
DTSTAMP:20180224T115907
CREATED:20180130T022750Z
LAST-MODIFIED:20180130T022750Z
UID:1741-1519200000-1519228800@csisafety.com.au
SUMMARY:CPCCWHS1001 Prepare to Work Safely in the Construction Industry - 21.2.18
DESCRIPTION:This unit of competency specifies the mandatory work health and safety training required prior to undertaking construction work. The unit requires the person to demonstrate personal awareness and knowledge of health and safety legislative requirements in order to work safely and prevent injury or harm to self and others. It covers identifying and orally reporting common construction hazards\, understanding basic risk control measures\, and identifying procedures for responding to potential incidents and emergencies. It also covers correctly selecting and fitting common personal protective equipment (PPE) used for construction work.\nTopics covered \n\nLegislative requirements\nRisk management\nIndustry hazards\nDuty of care\nProcedures and relevant authorities\n\nDelivery method: Face to face \nDuration: 6-8 hours \n The national WHS induction for construction is a requirement under Part 6.5 of the Work Health and \nSafety Regulation 2011 \n
URL:http://csisafety.com.au/course/cpccwhs1001-prepare-to-work-safely-in-the-construction-industry-21-2-18/
LOCATION:3 Rosevear Place\, Dickson\, ACT\, 2602\, Australia
GEO:-35.2494342;149.1437802
X-APPLE-STRUCTURED-LOCATION;VALUE=URI;X-ADDRESS=3 Rosevear Place Dickson ACT 2602 Australia;X-APPLE-RADIUS=500;X-TITLE=3 Rosevear Place:geo:149.1437802,-35.2494342
END:VEVENT
BEGIN:VEVENT
DTSTART;TZID=UTC+10:20180222T074500
DTEND;TZID=UTC+10:20180222T120000
DTSTAMP:20180224T115907
CREATED:20180130T022935Z
LAST-MODIFIED:20180130T022935Z
UID:1743-1519285500-1519300800@csisafety.com.au
SUMMARY:10675NAT Course in Asbestos Awareness - 22.2.18
DESCRIPTION:10675NAT Course in Asbestos Awareness is the mandated course introduced by the ACT Government (Section 445 of the Work Health and Safety Regulation) and is required for all workers in the ACT building and construction industry. \nParticipants will gain the necessary knowledge and skills to identify when and where asbestos and asbestos containing material (ACM) may be present\, the precautions that need to be taken if it is present and reporting procedures. \nTopics covered \n\nReporting procedures\nIdentify different types of asbestos\nHazards\nLegislation\nHistory of asbestos\n\nDelivery method: Face to face \nDuration: 4 hours \nThis course may help you meet your lawful obligations to Part 8.5\, Division 2\, Clause 445 of the Work Health and Safety Regulation 2011 \n
URL:http://csisafety.com.au/course/10675nat-course-in-asbestos-awareness-22-2-18/
LOCATION:3 Rosevear Place\, Dickson\, ACT\, 2602\, Australia
GEO:-35.2494342;149.1437802
X-APPLE-STRUCTURED-LOCATION;VALUE=URI;X-ADDRESS=3 Rosevear Place Dickson ACT 2602 Australia;X-APPLE-RADIUS=500;X-TITLE=3 Rosevear Place:geo:149.1437802,-35.2494342
END:VEVENT
BEGIN:VEVENT
DTSTART;TZID=UTC+10:20180227T074500
DTEND;TZID=UTC+10:20180227T120000
DTSTAMP:20180224T115907
CREATED:20180130T023038Z
LAST-MODIFIED:20180130T023038Z
UID:1745-1519717500-1519732800@csisafety.com.au
SUMMARY:10675NAT Course in Asbestos Awareness - 27.2.18
DESCRIPTION:10675NAT Course in Asbestos Awareness is the mandated course introduced by the ACT Government (Section 445 of the Work Health and Safety Regulation) and is required for all workers in the ACT building and construction industry. \nParticipants will gain the necessary knowledge and skills to identify when and where asbestos and asbestos containing material (ACM) may be present\, the precautions that need to be taken if it is present and reporting procedures. \nTopics covered \n\nReporting procedures\nIdentify different types of asbestos\nHazards\nLegislation\nHistory of asbestos\n\nDelivery method: Face to face \nDuration: 4 hours \nThis course may help you meet your lawful obligations to Part 8.5\, Division 2\, Clause 445 of the Work Health and Safety Regulation 2011 \n
URL:http://csisafety.com.au/course/10675nat-course-in-asbestos-awareness-27-2-18/
LOCATION:3 Rosevear Place\, Dickson\, ACT\, 2602\, Australia
GEO:-35.2494342;149.1437802
X-APPLE-STRUCTURED-LOCATION;VALUE=URI;X-ADDRESS=3 Rosevear Place Dickson ACT 2602 Australia;X-APPLE-RADIUS=500;X-TITLE=3 Rosevear Place:geo:149.1437802,-35.2494342
END:VEVENT
BEGIN:VEVENT
DTSTART;TZID=UTC+10:20180301T073000
DTEND;TZID=UTC+10:20180301T120000
DTSTAMP:20180224T115907
CREATED:20180223T024831Z
LAST-MODIFIED:20180223T024831Z
UID:1748-1519889400-1519905600@csisafety.com.au
SUMMARY:10675NAT Course in Asbestos Awareness - 1.3.18
DESCRIPTION:10675NAT Course in Asbestos Awareness is the mandated course introduced by the ACT Government (Section 445 of the Work Health and Safety Regulation) and is required for all workers in the ACT building and construction industry. \nParticipants will gain the necessary knowledge and skills to identify when and where asbestos and asbestos containing material (ACM) may be present\, the precautions that need to be taken if it is present and reporting procedures. \nTopics covered \n\nReporting procedures\nIdentify different types of asbestos\nHazards\nLegislation\nHistory of asbestos\n\nDelivery method: Face to face \nDuration: 4 hours \nThis course may help you meet your lawful obligations to Part 8.5\, Division 2\, Clause 445 of the Work Health and Safety Regulation 2011 \n  \n
URL:http://csisafety.com.au/course/10675nat-course-in-asbestos-awareness-1-3-18/
LOCATION:3 Rosevear Place\, Dickson\, ACT\, 2602\, Australia
GEO:-35.2494342;149.1437802
X-APPLE-STRUCTURED-LOCATION;VALUE=URI;X-ADDRESS=3 Rosevear Place Dickson ACT 2602 Australia;X-APPLE-RADIUS=500;X-TITLE=3 Rosevear Place:geo:149.1437802,-35.2494342
END:VEVENT
END:VCALENDAR